BEGIN:VCALENDAR
VERSION:2.0
PRODID:-//CSLDallas | A Center for Spiritual Living, Metaphysics, Transformation, and Spiritual Community in Dallas Texas - ECPv6.9.1//NONSGML v1.0//EN
CALSCALE:GREGORIAN
METHOD:PUBLISH
X-WR-CALNAME:CSLDallas | A Center for Spiritual Living, Metaphysics, Transformation, and Spiritual Community in Dallas Texas
X-ORIGINAL-URL:https://csldallas.org
X-WR-CALDESC:Events for CSLDallas | A Center for Spiritual Living, Metaphysics, Transformation, and Spiritual Community in Dallas Texas
REFRESH-INTERVAL;VALUE=DURATION:PT1H
X-Robots-Tag:noindex
X-PUBLISHED-TTL:PT1H
BEGIN:VTIMEZONE
TZID:UTC
BEGIN:STANDARD
TZOFFSETFROM:+0000
TZOFFSETTO:+0000
TZNAME:UTC
DTSTART:20230101T000000
END:STANDARD
END:VTIMEZONE
BEGIN:VEVENT
DTSTART;TZID=UTC:20231104T100000
DTEND;TZID=UTC:20231104T120000
DTSTAMP:20260423T093530
CREATED:20230821T203728Z
LAST-MODIFIED:20230821T204036Z
UID:25860-1699092000-1699099200@csldallas.org
SUMMARY:Nature Circle
DESCRIPTION:Hike with our Nature Circle!\nTrinity River Greenbelt – Goat Island Preserve \nPlease contact circle leaders for more information \nA few quick notes:\n1) You don’t need to RSVP or notify us about an event\, just come as you wish.\n2) If you have trouble finding us\, please call one of the numbers below.\n3) Be prompt. Since we don’t know who is coming\, we won’t wait on you.\n4) Feel free to invite others by spreading this link.\n5) It’s recommended to wear long pants and bring bug spray\, sunscreen\, and water. \nLeaders of Circle:\nMichael Deese 817-307-8105 | michael@deese.life\nMichelle Deese 940-367-2919 | michelle@deese.life
URL:https://csldallas.org/event/nature-circle-11-04-2023/
CATEGORIES:Community
ATTACH;FMTTYPE=image/jpeg:https://csldallas.org/wp-content/uploads/2022/04/WEBSITE-Nature-Walk.jpg
END:VEVENT
BEGIN:VEVENT
DTSTART;TZID=UTC:20231014T100000
DTEND;TZID=UTC:20231014T120000
DTSTAMP:20260423T093530
CREATED:20230705T173331Z
LAST-MODIFIED:20230821T204048Z
UID:25676-1697277600-1697284800@csldallas.org
SUMMARY:Nature Circle
DESCRIPTION:Hike with our Nature Circle!\nOak Point Park Nature Preserve Plano\nPlease contact circle leaders for more information \nA few quick notes:\n1) You don’t need to RSVP or notify us about an event\, just come as you wish.\n2) If you have trouble finding us\, please call one of the numbers below.\n3) Be prompt. Since we don’t know who is coming\, we won’t wait on you.\n4) Feel free to invite others by spreading this link.\n5) It’s recommended to wear long pants and bring bug spray\, sunscreen\, and water. \nLeaders of Circle:\nMichael Deese 817-307-8105 | michael@deese.life\nMichelle Deese 940-367-2919 | michelle@deese.life
URL:https://csldallas.org/event/nature-circle-10-14-2023/
CATEGORIES:Community
ATTACH;FMTTYPE=image/jpeg:https://csldallas.org/wp-content/uploads/2022/04/WEBSITE-Nature-Walk.jpg
END:VEVENT
BEGIN:VEVENT
DTSTART;TZID=UTC:20230909T100000
DTEND;TZID=UTC:20230909T120000
DTSTAMP:20260423T093530
CREATED:20220406T215125Z
LAST-MODIFIED:20230821T204045Z
UID:24773-1694253600-1694260800@csldallas.org
SUMMARY:Nature Circle
DESCRIPTION:Hike with our Nature Circle!\nCedar Ridge Preserve\nPlease contact circle leaders for more information \nBe sure and get there 20 minutes early\, sometimes parking can be an issue.  We will meet at 10:00am and hike for a couple of hours.  The address is 7171 Mountain Creek Parkway\, Dallas\, TX  75249.  Follow the main entrance road to the end\, and we will meet in the large parking lot. \nA few quick notes:\n1) You don’t need to RSVP or notify us about an event\, just come as you wish.\n2) If you have trouble finding us\, please call one of the numbers below.\n3) Be prompt. Since we don’t know who is coming\, we won’t wait on you.\n4) Feel free to invite others by spreading this link.\n5) It’s recommended to wear long pants and bring bug spray\, sunscreen\, and water. \nLeaders of Circle:\nMichael Deese 817-307-8105 | michael@deese.life\nMichelle Deese 940-367-2919 | michelle@deese.life
URL:https://csldallas.org/event/nature-circle-2-2023-03-11/
CATEGORIES:Community
ATTACH;FMTTYPE=image/jpeg:https://csldallas.org/wp-content/uploads/2022/04/WEBSITE-Nature-Walk.jpg
END:VEVENT
BEGIN:VEVENT
DTSTART;TZID=UTC:20230826T090000
DTEND;TZID=UTC:20230826T110000
DTSTAMP:20260423T093530
CREATED:20230330T193457Z
LAST-MODIFIED:20230821T204042Z
UID:25313-1693040400-1693047600@csldallas.org
SUMMARY:Nature Circle
DESCRIPTION:Hike with our Nature Circle!\nLlela Nature Preserve – Black Jack Trail\nPlease contact circle leaders for more information \nWe will meet at 9:00am and hike for a couple of hours.  Feel free to bring a picnic lunch and eat there. After lunch\, some might want to hike some more. 201 E Jones St\, Lewisville\, TX 75057. There is a gate to enter and they do charge $5.00 per car. After you enter take the first right\, which will take you into a gravel parking lot. The info center is located here along with the entrance to the Black Jack Trail. \nA few quick notes:\n1) You don’t need to RSVP or notify us about an event\, just come as you wish.\n2) If you have trouble finding us\, please call one of the numbers below.\n3) Be prompt. Since we don’t know who is coming\, we won’t wait on you.\n4) Feel free to invite others by spreading this link.\n5) It’s recommended to wear long pants and bring bug spray\, sunscreen\, and water. \nLeaders of Circle:\nMichael Deese 817-307-8105 | michael@deese.life\nMichelle Deese 940-367-2919 | michelle@deese.life
URL:https://csldallas.org/event/nature-circle-08-26-2023/
CATEGORIES:Community
ATTACH;FMTTYPE=image/jpeg:https://csldallas.org/wp-content/uploads/2022/04/WEBSITE-Nature-Walk.jpg
END:VEVENT
BEGIN:VEVENT
DTSTART;TZID=UTC:20230708T090000
DTEND;TZID=UTC:20230708T110000
DTSTAMP:20260423T093530
CREATED:20230330T193331Z
LAST-MODIFIED:20230330T225755Z
UID:25312-1688806800-1688814000@csldallas.org
SUMMARY:Nature Circle
DESCRIPTION:Hike with our Nature Circle!\nHeard Nature Center\nPlease contact circle leaders for more information \nWe will meet at 9:00am and hike for a couple of hours. There is a $10 per person fee at the Heard. The address is 1 Nature Place\, McKinney\, TX 75069. Park in the Main Parking by the Main Building\, we will meet in the gift shop. We will probably be hiking the Sycamore and Hoot Owl Trails. \nA few quick notes:\n1) You don’t need to RSVP or notify us about an event\, just come as you wish.\n2) If you have trouble finding us\, please call one of the numbers below.\n3) Be prompt. Since we don’t know who is coming\, we won’t wait on you.\n4) Feel free to invite others by spreading this link.\n5) It’s recommended to wear long pants and bring bug spray\, sunscreen\, and water. \nLeaders of Circle:\nLisa Blackford (Texas Master Naturalist) 214-223-3605 |  lblackford@cooperinst.org\nMichael Deese 817-307-8105 | michael@deese.life\nMichelle Deese 940-367-2919 | michelle@deese.life
URL:https://csldallas.org/event/nature-circle-07-08-2023/
CATEGORIES:Community
ATTACH;FMTTYPE=image/jpeg:https://csldallas.org/wp-content/uploads/2022/04/WEBSITE-Nature-Walk.jpg
END:VEVENT
BEGIN:VEVENT
DTSTART;TZID=UTC:20230610T100000
DTEND;TZID=UTC:20230610T120000
DTSTAMP:20260423T093530
CREATED:20230330T193200Z
LAST-MODIFIED:20230605T182342Z
UID:25311-1686391200-1686398400@csldallas.org
SUMMARY:Nature Circle
DESCRIPTION:Hike with our Nature Circle!\nTrinity Forest Trail at Joppa Preserve \nPlease contact circle leaders for more information\nWe will meet at 9 and hike for about an hour. We will meet at 9:00am in the parking lot at the links below and hike for about one hour and a half. Then those that choose can join us for lunch nearby at Bonton Farms. This is a free paved trail. The parking area by the trailhead is a little sketchy so don’t leave items in view when you park.Go to the parking lot at these links (apple maps do not show parking\, but it is there). The road off of Loop 12 is small but valid. A map is attached.Google Maps: https://goo.gl/maps/k3LE3daJka9BHafr7Apple Maps: https://maps.apple.com/place?ll=32.705963\,-96.737597&q=Dropped%20Pin&t=m \nA few quick notes:\n1) You don’t need to RSVP or notify us about an event\, just come as you wish.\n2) If you have trouble finding us\, please call one of the numbers below.\n3) Be prompt. Since we don’t know who is coming\, we won’t wait on you.\n4) Feel free to invite others by spreading this link.\n5) It’s recommended to wear long pants and bring bug spray\, sunscreen\, and water. \nLeaders of Circle:\nLisa Blackford (Texas Master Naturalist) 214-223-3605 |  lblackford@cooperinst.org\nMichael Deese 817-307-8105 | michael@deese.life\nMichelle Deese 940-367-2919 | michelle@deese.life
URL:https://csldallas.org/event/nature-circle-06-10-2023/
CATEGORIES:Community
ATTACH;FMTTYPE=image/jpeg:https://csldallas.org/wp-content/uploads/2022/04/WEBSITE-Nature-Walk.jpg
END:VEVENT
BEGIN:VEVENT
DTSTART;TZID=UTC:20230513T100000
DTEND;TZID=UTC:20230513T120000
DTSTAMP:20260423T093530
CREATED:20230330T193043Z
LAST-MODIFIED:20230330T230040Z
UID:25310-1683972000-1683979200@csldallas.org
SUMMARY:Nature Circle
DESCRIPTION:Hike with our Nature Circle!\nCedar Hill State Park\nPlease contact circle leaders for more information \nCedar Hill State Park (Talaia Trail). We will meet at 10 and hike for a couple of hours. The address is 1570 West FM 1382\, Cedar Hill\, TX 75104. There is a day-use fee of $7.00. We will be hiking the Talala Trail which is 2.3 miles of moderate hiking. After you pass the main gate and pay\, you will come to an intersection. Go left on South Spine Road. Stay on South Spine Road until you reach the parking for Talala Trail (location attached). I suggest using the restroom at the front gate\, however\, there is a primitive restroom on the trail. This is our first time here for Nature Circle so feel free to call if you are having trouble finding us. \nA few quick notes:\n1) You don’t need to RSVP or notify us about an event\, just come as you wish.\n2) If you have trouble finding us\, please call one of the numbers below.\n3) Be prompt. Since we don’t know who is coming\, we won’t wait on you.\n4) Feel free to invite others by spreading this link.\n5) It’s recommended to wear long pants and bring bug spray\, sunscreen\, and water. \nLeaders of Circle:\nLisa Blackford (Texas Master Naturalist) 214-223-3605 |  lblackford@cooperinst.org\nMichael Deese 817-307-8105 | michael@deese.life\nMichelle Deese 940-367-2919 | michelle@deese.life
URL:https://csldallas.org/event/nature-circle-05-13-2023/
CATEGORIES:Community
ATTACH;FMTTYPE=image/jpeg:https://csldallas.org/wp-content/uploads/2022/04/WEBSITE-Nature-Walk.jpg
END:VEVENT
BEGIN:VEVENT
DTSTART;TZID=UTC:20230422T100000
DTEND;TZID=UTC:20230422T110000
DTSTAMP:20260423T093530
CREATED:20230330T192858Z
LAST-MODIFIED:20230330T230057Z
UID:25309-1682157600-1682161200@csldallas.org
SUMMARY:Nature Circle
DESCRIPTION:Hike with our Nature Circle!\nDogwood Canyon (for dogwood blooms)\nPlease contact circle leaders for more information \nWe will meet at 10 and hike for a couple of hours.  The center is located at 1206 FM 1382\, Cedar Hill\, TX 75104 (lookup Dogwood Canyon Audubon Center in Google Maps). Admission is donation-based. The parking lot is split into two areas. Visitors are welcome to park in either area. Our hiking trails are accessed by coming up the ramp to the building and first signing in at the Gift Shop (double doors on the right side of the breezeway). The trails are behind the building.  We will meet in the Gift Shop.  Special note: they do close the trails after heavy rains; an email cancellation will be sent if the trails are closed. \nA few quick notes:\n1) You don’t need to RSVP or notify us about an event\, just come as you wish.\n2) If you have trouble finding us\, please call one of the numbers below.\n3) Be prompt. Since we don’t know who is coming\, we won’t wait on you.\n4) Feel free to invite others by spreading this link.\n5) It’s recommended to wear long pants and bring bug spray\, sunscreen\, and water. \nLeaders of Circle:\nLisa Blackford (Texas Master Naturalist) 214-223-3605 |  lblackford@cooperinst.org\nMichael Deese 817-307-8105 | michael@deese.life\nMichelle Deese 940-367-2919 | michelle@deese.life
URL:https://csldallas.org/event/nature-circle-04-22-2023/
CATEGORIES:Community
ATTACH;FMTTYPE=image/jpeg:https://csldallas.org/wp-content/uploads/2022/04/WEBSITE-Nature-Walk.jpg
END:VEVENT
BEGIN:VEVENT
DTSTART;TZID=UTC:20230311T100000
DTEND;TZID=UTC:20230311T110000
DTSTAMP:20260423T093530
CREATED:20230204T185749Z
LAST-MODIFIED:20230306T134449Z
UID:24953-1678528800-1678532400@csldallas.org
SUMMARY:Nature Circle
DESCRIPTION:Hike with our Nature Circle!\nCedar Hill Park\nCedar Hill State Park (Talaia Trail). We will meet at 10 and hike for a couple of hours. The address is 1570 West FM 1382\, Cedar Hill\, TX 75104. There is a day-use fee of $7.00. We will be hiking the Talala Trail which is 2.3 miles moderate hiking. After you pass the main gate and pay\, you will come to an intersection. Go left on South Spine Road. Stay on South Spine Road until you reach the parking for Talala Trail (location attached). I suggest using the restroom at the front gate\, however\, there is a primitive restroom on the trail. This is our first time here for Nature Circle so feel free to call if you are having trouble finding us. \nA few quick notes:\n1) You don’t need to RSVP or notify us about an event\, just come as you wish.\n2) If you have trouble finding us\, please call one of the numbers below.\n3) Be prompt. Since we don’t know who is coming\, we won’t wait on you.\n4) Feel free to invite others by spreading this link.\n5) It’s recommended to wear long pants and bring bug spray\, sunscreen\, and water. \nLeaders of Circle:\nLisa Blackford (Texas Master Naturalist) 214-223-3605 |  lblackford@cooperinst.org\nMichael Deese 817-307-8105 | michael@deese.life\nMichelle Deese 940-367-2919 | michelle@deese.life
URL:https://csldallas.org/event/nature-circle-2-2023-03-11-copy/
CATEGORIES:Community
ATTACH;FMTTYPE=image/jpeg:https://csldallas.org/wp-content/uploads/2022/04/WEBSITE-Nature-Walk.jpg
END:VEVENT
BEGIN:VEVENT
DTSTART;TZID=UTC:20230211T100000
DTEND;TZID=UTC:20230211T110000
DTSTAMP:20260423T093530
CREATED:20220406T215125Z
LAST-MODIFIED:20230204T185253Z
UID:24772-1676109600-1676113200@csldallas.org
SUMMARY:Nature Circle
DESCRIPTION:Hike with our Nature Circle!\nTrinity River Audubon Center\nThe parking lot is located at 6500 S Great Trinity Forest Way\, Dallas\, TX 75217. Park and then walk to the building\, we will meet outside. Lisa has pre-reserved tickets and will have them when we meet. \nA few quick notes:\n1) You don’t need to RSVP or notify us about an event\, just come as you wish.\n2) If you have trouble finding us\, please call one of the numbers below.\n3) Be prompt. Since we don’t know who is coming\, we won’t wait on you.\n4) Feel free to invite others by spreading this link.\n5) It’s recommended to wear long pants and bring bug spray\, sunscreen\, and water. \nLeaders of Circle:\nLisa Blackford (Texas Master Naturalist) 214-223-3605 |  lblackford@cooperinst.org\nMichael Deese 817-307-8105 | michael@deese.life\nMichelle Deese 940-367-2919 | michelle@deese.life
URL:https://csldallas.org/event/nature-circle-2-2023-02-11/
CATEGORIES:Community
ATTACH;FMTTYPE=image/jpeg:https://csldallas.org/wp-content/uploads/2022/04/WEBSITE-Nature-Walk.jpg
END:VEVENT
BEGIN:VEVENT
DTSTART;TZID=UTC:20230114T100000
DTEND;TZID=UTC:20230114T110000
DTSTAMP:20260423T093530
CREATED:20220406T215125Z
LAST-MODIFIED:20230115T170030Z
UID:22182-1673690400-1673694000@csldallas.org
SUMMARY:Nature Circle
DESCRIPTION:Hike with our Nature Circle!\nLlela Nature Preserve at Lake Lewisville\nWe will meet at 10 and hike for a couple of hours. We sometimes go eat together after the hike.\nThe address is 201 E Jones St\, Lewisville\, TX 75057. There is a gate to enter\, and they do charge 5.00 per car (credit only). After you enter follow the road to the end and park in the lot closest to the spillway of the dam. We will be hiking the Bittern Marsh trail. \nA few quick notes:\n1) You don’t need to RSVP or notify us about an event\, just come as you wish.\n2) If you have trouble finding us\, please call one of the numbers below.\n3) Be prompt. Since we don’t know who is coming\, we won’t wait on you.\n4) Feel free to invite others by spreading this link.\n5) It’s recommended to wear long pants and bring bug spray\, sunscreen\, and water. \nLeaders of Circle:\nLisa Blackford (Texas Master Naturalist) 214-223-3605 |  lblackford@cooperinst.org\nMichael Deese 817-307-8105 | michael@deese.life\nMichelle Deese 940-367-2919 | michelle@deese.life
URL:https://csldallas.org/event/nature-circle-2/2023-01-14/
CATEGORIES:Community
ATTACH;FMTTYPE=image/jpeg:https://csldallas.org/wp-content/uploads/2022/04/WEBSITE-Nature-Walk.jpg
END:VEVENT
END:VCALENDAR