BEGIN:VCALENDAR
VERSION:2.0
PRODID:-//CSLDallas | A Center for Spiritual Living, Metaphysics, Transformation, and Spiritual Community in Dallas Texas - ECPv6.9.1//NONSGML v1.0//EN
CALSCALE:GREGORIAN
METHOD:PUBLISH
X-WR-CALNAME:CSLDallas | A Center for Spiritual Living, Metaphysics, Transformation, and Spiritual Community in Dallas Texas
X-ORIGINAL-URL:https://csldallas.org
X-WR-CALDESC:Events for CSLDallas | A Center for Spiritual Living, Metaphysics, Transformation, and Spiritual Community in Dallas Texas
REFRESH-INTERVAL;VALUE=DURATION:PT1H
X-Robots-Tag:noindex
X-PUBLISHED-TTL:PT1H
BEGIN:VTIMEZONE
TZID:UTC
BEGIN:STANDARD
TZOFFSETFROM:+0000
TZOFFSETTO:+0000
TZNAME:UTC
DTSTART:20220101T000000
END:STANDARD
TZID:America/Chicago
BEGIN:DAYLIGHT
TZOFFSETFROM:-0600
TZOFFSETTO:-0500
TZNAME:CDT
DTSTART:20210314T080000
END:DAYLIGHT
BEGIN:STANDARD
TZOFFSETFROM:-0500
TZOFFSETTO:-0600
TZNAME:CST
DTSTART:20211107T070000
END:STANDARD
END:VTIMEZONE
BEGIN:VEVENT
DTSTART;TZID=UTC:20260208T123000
DTEND;TZID=UTC:20260208T143000
DTSTAMP:20260419T090457
CREATED:20230614T002229Z
LAST-MODIFIED:20260121T011908Z
UID:25611-1770553800-1770561000@csldallas.org
SUMMARY:Membership Matters
DESCRIPTION:Do you consider CSLDallas your spiritual home?\nIf you do\, then it’s time for you to become a member of our beautiful community!\n\n\nMembership matters because it allows you to declare your engagement and invites you to go deeper. We’ve learned that just enjoying Sundays isn’t enough\, not if you really want to be part of something amazing. \nThis community accepts\, lifts\, grows\, and challenges us like no other place in the world. The teachings are solid\, but they only work if you work them. And CSLDallas as an organization is designed and ran in a way you’ve never experienced at any other place. Being a member means you want to be part of the action and get in on all of the goodies. \nMembership Matters:\n• You get benefits\, special events\, and discounts\n• You get to vote for elected leaders\n• You get to serve in elected leadership\n• You get to take responsibility for your contributions\n• You get to receive intimacy\, connection\, and empowerment \nWhat To Expect:\n• It begins with 2-hour session on Feb 8th and again on Feb 15th. In each session we dive deeper into what it means to be a member at CSLDallas.\n• It culminates with a ritual of presentation and commitment on the Sunday February 22nd during the Celebration. \nFor those Online\, you can take a free E-Course right now that will also give you a free gift at the end. \nTake E-Course Now\nRegister Now
URL:https://csldallas.org/event/new-member-orientation-spring/
LOCATION:CSLDallas\, 4801 Spring Valley Rd. Ste 113\, Dallas\, TX\, 75244\, United States
CATEGORIES:Classes,Community,Courses & Workshops
ATTACH;FMTTYPE=image/jpeg:https://csldallas.org/wp-content/uploads/2022/05/Letter-3-bottom.jpg
END:VEVENT
BEGIN:VEVENT
DTSTART;TZID=UTC:20230527T090000
DTEND;TZID=UTC:20230527T120000
DTSTAMP:20260419T090457
CREATED:20230501T175127Z
LAST-MODIFIED:20230507T150354Z
UID:25474-1685178000-1685188800@csldallas.org
SUMMARY:Bonton Farms Community Service Project
DESCRIPTION:As one of our nonprofit partners\, CSLDallas is proud to support Bonton Farms\, a local organization committed to redefining communities and disrupting systems of inequity. As a demonstration of our commitment to service\, the CSLDallas Community Service Team invites you to gather with us for a day of gardening at Bonton’s Extension Farm! \nDuring this volunteer project\, we will have the opportunity to contribute to Bonton Farms’ mission by helping them lay a foundation for change that yields health\, wholeness\, and opportunity as the norm. All volunteers will receive a private tour of the farm\, followed by a choice of tasks to help support their important work. We will partake in various chores\, such as cleaning chicken coops\, harvesting/pruning rows of produce\, watering trees and vegetables\, and helping plant new crops. This is the perfect time to show off that green thumb of yours if you’ve got it! \nClick the button below to RSVP online or sign up in person by visiting the Community Service Team table after the Sunday Celebration on May 7th and May 21st. Team Lead\, Kris Gallant\, will email you more information along with a waiver to complete. Learn more about Bonton Farms’ mission at www.bontonfarms.org. \nSIGN UP HERE\n\nPlease note that while teens 16 years or older are allowed to participate solo\, children under 16 can not volunteer without a parent or guardian present. Children aged 10-15 must be accompanied by a guardian at all times\, no exceptions. Children under the age of 10 are not permitted on the premises.
URL:https://csldallas.org/event/bonton-farms-2023/
LOCATION:Bonton Farms Extension\, 12400 Ravenview Rd\, Dallas\, 75253
CATEGORIES:Community
ATTACH;FMTTYPE=image/png:https://csldallas.org/wp-content/uploads/2023/05/Bonton-Farms-Image-2.png
END:VEVENT
BEGIN:VEVENT
DTSTART;TZID=UTC:20220813T140000
DTEND;TZID=UTC:20220813T170000
DTSTAMP:20260419T090457
CREATED:20220508T050929Z
LAST-MODIFIED:20220717T134132Z
UID:22776-1660399200-1660410000@csldallas.org
SUMMARY:Keys to the Spiritual Path (Hybrid)
DESCRIPTION:Both In-Person & Online | Takes place over two Saturdays\nSpecifically for anyone new to CSLDallas\, Science of Mind\, New Thought\, or Metaphysics – let’s get you started. \nThis enlightening and uplifting course invites you into the journey of spiritual development and introduces mysticism as a personal commitment to spiritual growth through a direct\, one-on-one experience of an Infinite\, Absolute Reality\, the Spirit of It All. \nAt a time when many spiritual seekers are questioning many “religious” doctrines and practices\, Keys to the Spiritual Path offers a New Thought way of life that works for the world and each of us. \nLearn More\nDates:August 13 & August 20\nTime: 2:00-5:00 PM\nCredit Hours: 6\nCost: $49\nNo Textbook Required\nFoundations Recommended; Not Required \nRegister Here
URL:https://csldallas.org/event/keys-to-the-spiritual-path-august-2022/
LOCATION:TX
CATEGORIES:SOM Classes
ATTACH;FMTTYPE=image/jpeg:https://csldallas.org/wp-content/uploads/2022/05/WEBSITE-KEYS-TO-THE-SPIRITUAL-PATH-770-×-300-px.jpg
END:VEVENT
BEGIN:VEVENT
DTSTART;TZID=UTC:20220730T100000
DTEND;TZID=UTC:20220730T120000
DTSTAMP:20260419T090457
CREATED:20220519T014011Z
LAST-MODIFIED:20220613T202911Z
UID:22832-1659175200-1659182400@csldallas.org
SUMMARY:How to Live Your Life's Purpose
DESCRIPTION:Led By: Carol Merlo\, M.Ed.\, RScP\nTime: 10 AM-12 PM \nWhat is your life’s purpose? You may be asking yourself\, “What is God’s Will for me?”\, or\, “I think I know what I want but feel like I have failed in the past so don’t know if it’s even realistic.” \nEven though people talk about their purpose\, their actual path to manifestation is often riddled with a sense of despair over past losses and this gets in the way of them living the life of their dreams. \nSome people get so disillusioned with the idea of living their life’s purpose that they stop trying. They don’t feel good enough\, smart enough\, or that life’s circumstances have gotten in the way. They may have taken inspirational classes\, read books\, or even seen therapists or coaches to help them either SEE THE VISION or IMPLEMENT THE VISION of their life’s purpose. And yet\, they might feel like something is missing because they are just not where they want to be in their lives. There are actually 3 steps to living your life’s purpose. \nRegister Here\nThe 3 Step Process to Live Your Life’s Purpose: \nStep 1: Discover your Fulfillment Needs  \nIf your life’s purpose is to experience fulfillment and the resultant joy that it gives you\, you will need to first  know what fulfills you\, and then set up a desire statement  for that which fulfills you. This process automatically builds your belief. This sense of desire that is connected to your specific fulfillment needs will help you accomplish your goals.  \nStep 2: Actively Envision Your Desires Manifesting  \nOnce you know what your fulfillment needs are\, you need to connect them to what you want to manifest. The first step for turning your fulfillment needs into desires is to have a vision for their manifestation. By allowing yourself to vision\, you establish an important part of creating positive change in your life.   \nStep 3: Use the Law of Attraction to Demonstrate your Desires  \n“I attract to my life whatever I give my attention\, energy\, and focus to\, \nwhether positive or negative.” \n                                                                                                                                   -Michael Losier  \nTo use The Law of Attraction to live your life’s purpose\, you must become aware of your thoughts. It is the process of becoming aware of your non-optimum thoughts and then using specific practices to change the thoughts that will then create a dynamic flow of energy to live your life’s purpose. Changed thoughts create changed energy\, which results in a more empowered and fulfilled life.  \nLearn More\nRegister Here
URL:https://csldallas.org/event/how-to-live-your-lifes-purpose-july/
LOCATION:CSLDallas\, 4801 Spring Valley Rd. Ste 113\, Dallas\, TX\, 75244\, United States
CATEGORIES:Classes,Personal Growth
ATTACH;FMTTYPE=image/jpeg:https://csldallas.org/wp-content/uploads/2022/05/WEBSITE-How-to-live-your-lifes-purpose-770-×-300-px.jpg
END:VEVENT
BEGIN:VEVENT
DTSTART;TZID=UTC:20220716T100000
DTEND;TZID=UTC:20220716T120000
DTSTAMP:20260419T090457
CREATED:20220514T014610Z
LAST-MODIFIED:20220615T123828Z
UID:22791-1657965600-1657972800@csldallas.org
SUMMARY:Affirmations -Speaking Your Truth
DESCRIPTION:Speaking Your Truth – Awakening Your Power \nBoth In-Person and Online \nExperience and develop your own personal practice of Affirmations! Affirmations are deceptively simple and unexpectedly powerful. Trust the words they speak as the expression of your soul’s desire. Let Rev Patti guide you on your path to awakening your personal power as you apply affirmation to any area of your life. \nIn this workshop you will:\n– Explore the power of affirmations and how to use them in your highest manifestations.\n– Learn to create effective affirmations\n– Discover how to speak your truth\, personally\, precisely\, positively\, passionately\, and productively into the moment.\n– Joyously awakening your personal power \nAbout Rev Patti:\nRev Patti has been using and teaching people the power of Affirmations for many years and has countless stories of how they work in people’s loves. She is ready to let you in on the secrets of how to affirm your way into heal\, joy\, and greater abundance. \nRegister Here
URL:https://csldallas.org/event/affirmation-workshop/
LOCATION:CSLDallas\, 4801 Spring Valley Rd. Ste 113\, Dallas\, TX\, 75244\, United States
CATEGORIES:Personal Growth
ATTACH;FMTTYPE=image/jpeg:https://csldallas.org/wp-content/uploads/2022/05/WEBSITE-Affirmation-Workshop-with-Rev-Patti-770-×-300-px.jpg
ORGANIZER;CN="Rev Patti":MAILTO:RevPatti@CSLDallas.org
END:VEVENT
BEGIN:VEVENT
DTSTART;TZID=UTC:20220604T090000
DTEND;TZID=UTC:20220604T120000
DTSTAMP:20260419T090458
CREATED:20220429T070312Z
LAST-MODIFIED:20220512T221353Z
UID:22723-1654333200-1654344000@csldallas.org
SUMMARY:Bonton Farms Community Service Project
DESCRIPTION:Date: Saturday\, June 4th\nTime: 9 AM-12 PM\nLocation: Bonton Farms Extension Farm: 12571 Ravenview Rd\, Dallas\, TX 75253\nCost: FREE \nAll community members\, as well as families with children 10 and over\, are encouraged to volunteer for our Nonprofit Partner\, Bonton Farms. We will partake in various farm chores\, such as cleaning chicken coops\, harvesting/pruning rows of produce\, watering trees and vegetables\, and helping plant new crops. This is the perfect time to show off that green thumb of yours if you’ve got it! \nBonton Farms Mission: Help transform lives by disrupting systems of inequity\, laying a foundation where change yields health\, wholeness\, and opportunity as the norm.\nwww.bontonfarms.org \nPlease RSVP no later than May 25 to RSVP@CSLDallas.org with volunteer name(s) and child(ren) age(s). Kris Gallant will email all the details for June 4\, along with a waiver. Sign-ups will also be available in Pahnke Hall after Sunday Celebration on May 15 and May 22. \nImportant: While teens 16 years or older are allowed to participate solo\, children under 16 can not volunteer without a parent or guardian present. Children aged 10-15 must be accompanied by a guardian at all times\, no exceptions. Children under the age of 10 are not permitted on the premises.
URL:https://csldallas.org/event/bonton-farms-community-service-project/
LOCATION:Bonton Farms\, 12571 Ravenview Rd.\, Dallas\, TX\, 75253\, United States
CATEGORIES:Community
ATTACH;FMTTYPE=image/jpeg:https://csldallas.org/wp-content/uploads/2022/04/WEBSITE-Bonton-Farms-Community-Service-Project-770-×-300-px.jpg
END:VEVENT
BEGIN:VEVENT
DTSTART;TZID=UTC:20220507T120000
DTEND;TZID=UTC:20220507T180000
DTSTAMP:20260419T090458
CREATED:20220402T024323Z
LAST-MODIFIED:20220413T211941Z
UID:21674-1651924800-1651946400@csldallas.org
SUMMARY:Pause for Peace: Walk the Labyrinth and Plant Peace with Every Step
DESCRIPTION:Walk for Peace on World Labyrinth Day May 7th. \nPahnke Hall\n12:00PM-6:00PM \nSaturday\, May 7\, 2022\nHosted By: CSLDallas Labyrinth Team:\nAvis Ives\, RScP avisives@gmail.com and Cyndee Young\, RScP cyndeeyo@suddenlink.net\nCost: Love Offerings accepted and appreciated \nJoin the CSLDallas labyrinth walk\, participating in collective consciousness of thousands of walkers around the globe who walk each year on May 7th. This year\, we are walking for peace. In addition to the walk\, meditation and confidential affirmative prayer with a licensed spiritual coach will be available. \nFirst time walker? No worries! Our team will instruct and guide you to get started.
URL:https://csldallas.org/event/pause-for-peace-walk-the-labyrinth-and-plant-peace-with-every-step/
LOCATION:CSLDallas\, 4801 Spring Valley Rd. Ste 113\, Dallas\, TX\, 75244\, United States
CATEGORIES:Community
ATTACH;FMTTYPE=image/jpeg:https://csldallas.org/wp-content/uploads/2022/04/WEBSITE-Walk-for-Peace-.jpg
END:VEVENT
BEGIN:VEVENT
DTSTART;TZID=America/Chicago:20210508T190000
DTEND;TZID=America/Chicago:20210508T210000
DTSTAMP:20260419T090458
CREATED:20210406T165631Z
LAST-MODIFIED:20210422T220237Z
UID:18412-1620500400-1620507600@csldallas.org
SUMMARY:National Day of Prayer
DESCRIPTION:ONLINE\nCSLDallas (Center for Spiritual Living Dallas) is celebrating the National Day of Prayer on Saturday\, May 8\, 2021\, from 7:00 to 9:00 PM Central Time.  \nJoin us as we connect in peace and prayer! \nThe officially designated date this year is actually Thursday\, May 6 but we have elected to conduct our ceremony on May 8 to allow for more participation. \nThe National Day of Prayer is celebrated by many religions\, including Christians of various denominations\, as well as Sikhs\, Muslims\, Hindus\, Jews\, and other faith traditions which reflect the diversity of spiritual faiths practiced in the United States. Spiritual leaders from a variety of faiths will present their prerecorded prayers of peace from their unique spiritual traditions. It is our intention that as we come together to pray\, we demonstrate through our actions that peace among all is possible and that the power of prayer is one of the ways in which we bring peace\, harmony\, love\, joy\, and wisdom into our lives\, our communities\, our nation\, and the world. \nThe ceremony will also include music to celebrate our coming together to promote peace\, love\, and harmony. This year we are live streaming the event as well as allowing a limited capacity of participants in the sanctuary. \nJoin us on YouTube\, Facebook\, or right here on the Website!
URL:https://csldallas.org/event/national-day-of-prayer/
LOCATION:TX
CATEGORIES:Community
ATTACH;FMTTYPE=image/png:https://csldallas.org/wp-content/uploads/2021/04/CSLD-HERO-1000x650px-1.png
END:VEVENT
END:VCALENDAR