BEGIN:VCALENDAR
VERSION:2.0
PRODID:-//CSLDallas | A Center for Spiritual Living, Metaphysics, Transformation, and Spiritual Community in Dallas Texas - ECPv6.9.1//NONSGML v1.0//EN
CALSCALE:GREGORIAN
METHOD:PUBLISH
X-ORIGINAL-URL:https://csldallas.org
X-WR-CALDESC:Events for CSLDallas | A Center for Spiritual Living, Metaphysics, Transformation, and Spiritual Community in Dallas Texas
REFRESH-INTERVAL;VALUE=DURATION:PT1H
X-Robots-Tag:noindex
X-PUBLISHED-TTL:PT1H
BEGIN:VTIMEZONE
TZID:America/Chicago
BEGIN:DAYLIGHT
TZOFFSETFROM:-0600
TZOFFSETTO:-0500
TZNAME:CDT
DTSTART:20260308T080000
END:DAYLIGHT
BEGIN:STANDARD
TZOFFSETFROM:-0500
TZOFFSETTO:-0600
TZNAME:CST
DTSTART:20261101T070000
END:STANDARD
END:VTIMEZONE
BEGIN:VEVENT
DTSTART;TZID=America/Chicago:20260115T190000
DTEND;TZID=America/Chicago:20260115T213000
DTSTAMP:20260420T102531
CREATED:20191125T231138Z
LAST-MODIFIED:20251230T141053Z
UID:11992-1768503600-1768512600@csldallas.org
SUMMARY:Powering Your Decisions
DESCRIPTION:Are you great at setting intentions but struggle to bring them into reality?  \nThe missing link isn’t willpower — it’s decisive action. Most of us unconsciously avoid decisions out of fear or habit\, keeping our dreams stuck in “possibility” instead of bringing them into creation. Get the tools you need to breakthrough this barrier and make the decisions you need to embolden your life. \nPower of Decision is a dynamic\, interactive workshop designed to help you: \n– Break through myths and self-limiting beliefs about decision-making\n– Identify the areas in your life where decisive action will truly transform your experience\n– Move confidently forward in areas where you’ve felt stuck\n– Choose happiness\, prosperity\, health\, creativity\, and more with clarity and power \nAs Raymond Charles Barker reminds us\, “Indecision is actually the individual’s decision to fail.” In this class\, you’ll shift from hesitation to intentional choice and take charge of your life’s outcomes with confidence and joy. \nCLICK HERE TO LEARN MORE AND TO REGISTER \nOnline Only \nThis is a Science of Mind\, LEVEL TWO Elective Course
URL:https://csldallas.org/event/power-of-decision-course/
CATEGORIES:Classes,SOM Classes
ATTACH;FMTTYPE=image/jpeg:https://csldallas.org/wp-content/uploads/2019/11/power-of-decision-2020-770featured-image-scaled.jpg
END:VEVENT
BEGIN:VEVENT
DTSTART;TZID=America/Chicago:20260118T123000
DTEND;TZID=America/Chicago:20260118T153000
DTSTAMP:20260420T102531
CREATED:20251204T201817Z
LAST-MODIFIED:20260107T014545Z
UID:30676-1768739400-1768750200@csldallas.org
SUMMARY:A Life Laboratory Rooted in Spirit
DESCRIPTION:Rev Marquita is inviting you to a playful and powerful workshop focused on creating a wonder-filled life.\n\nThis workshop is uniquely designed to spark your Spiritual ESP – not extra sensory perception\, but an ESP built on spiritual principle\, imagination\, and personal experience. If you are curious about manifesting new possibilities and embracing a life filled with wonder\, this “Life Laboratory” is for you.\n\nThis is not a lecture\, but an interactive and engaging session where we will:\n\nExplore how our self-talk profoundly shapes our creative outcomes.\nLearn how to wipe the mental slate clean and approach new ideas with fresh spiritual clarity.\nExperience the creative process firsthand and gain practical tools to use it effectively in your daily life.\nExperiment with past experiences and perspectives to intentionally create exciting new possibilities for your future.\n\n\nCome and participate in this enriching laboratory of becoming! We look forward to exploring and creating with you.\n\nPrice: $89\nThis event is offered both in-person and online\nChildcare is provided\nRegister Now
URL:https://csldallas.org/event/a-life-laboratory-rooted-in-spirit/
CATEGORIES:Classes,Courses & Workshops,Personal Growth
ATTACH;FMTTYPE=image/jpeg:https://csldallas.org/wp-content/uploads/2025/12/Web-Banners-Jan-June-2026.jpg
END:VEVENT
END:VCALENDAR