BEGIN:VCALENDAR
VERSION:2.0
PRODID:-//CSLDallas | A Center for Spiritual Living, Metaphysics, Transformation, and Spiritual Community in Dallas Texas - ECPv6.9.1//NONSGML v1.0//EN
CALSCALE:GREGORIAN
METHOD:PUBLISH
X-ORIGINAL-URL:https://csldallas.org
X-WR-CALDESC:Events for CSLDallas | A Center for Spiritual Living, Metaphysics, Transformation, and Spiritual Community in Dallas Texas
REFRESH-INTERVAL;VALUE=DURATION:PT1H
X-Robots-Tag:noindex
X-PUBLISHED-TTL:PT1H
BEGIN:VTIMEZONE
TZID:America/Chicago
BEGIN:DAYLIGHT
TZOFFSETFROM:-0600
TZOFFSETTO:-0500
TZNAME:CDT
DTSTART:20260308T080000
END:DAYLIGHT
BEGIN:STANDARD
TZOFFSETFROM:-0500
TZOFFSETTO:-0600
TZNAME:CST
DTSTART:20261101T070000
END:STANDARD
END:VTIMEZONE
BEGIN:VEVENT
DTSTART;TZID=America/Chicago:20260405T091500
DTEND;TZID=America/Chicago:20260405T100000
DTSTAMP:20260420T152137
CREATED:20200325T231411Z
LAST-MODIFIED:20260413T144231Z
UID:31518-1775380500-1775383200@csldallas.org
SUMMARY:Science of Mind Class
DESCRIPTION:Deepen your understanding of the nature of reality and application of the principles of the Science of Mind in this FREE\, ongoing class.\nWhether you have been part of CSLDallas for a while\, or simply between classes\, this is the perfect place to go deeper into the teachings of Science of Mind and our founder\, Dr Ernest Holmes. We study our “textbook\,” The Science of Mind 1938 edition\, line-by-line\, paragraph-by-paragraph\, getting a greater understanding and learning deeper applications for our positive\, practical spirituality. Come every week\, or come when you can\, there is always an insight or “aha” here for you. \nScience of Mind is a compilation of the great thoughts of the ages\, the deep mystical yearnings of minds in search of God\, and the modern approach to a faith\, which can be demonstrated. In its practice and teachings\, Science of Mind endeavors to include the whole life. It is a way of life focused on joy\, freedom from fear\, and justified by results. Science of Mind offers the world what it has been waiting for – a faith whereby fear and superstition have been removed and universal spiritual principles are presented in plain\, simple\, and direct ways so that we may each learn to live now\, in the present\, with the knowledge and trust that the Universe is for us and not against us. \nJoin Zoom Now\nWatch on FB\nChildcare is provided by our JOY Village: Journey of Youth which is open Sundays 9am \n 
URL:https://csldallas.org/event/science-of-mind-class-2026-01-25/2026-04-05/
CATEGORIES:Community,Sunday Events
ATTACH;FMTTYPE=image/png:https://csldallas.org/wp-content/uploads/2020/03/som.png
END:VEVENT
BEGIN:VEVENT
DTSTART;TZID=America/Chicago:20260405T103000
DTEND;TZID=America/Chicago:20260405T120000
DTSTAMP:20260420T152137
CREATED:20250315T161314Z
LAST-MODIFIED:20260317T213425Z
UID:29280-1775385000-1775390400@csldallas.org
SUMMARY:Easter at CSLDallas
DESCRIPTION:In Person & Online\n10:30 AM – 12:00 PM\nJoin us on campus in the Sanctuary\nWatch us online via Facebook: facebook.com/CSLDallas\nOr head over to our YouTube channel here: youtube.com/csldallas \nThe Rising Heart – Easter Message\nCelebrate Easter with us in a way that awakens the heart and invites new possibility. This year’s message\, “The Rising Heart\,” begins with music and a powerful visual to reveal rebirth\, new life\, and the limitless potential waiting within each of us. Through an inspiriting talk\, and shared ritual\, we breathe in more life together as a community. \nFun for All Ages\nAs the service reaches an uplifting close\, the children will join us as we all get ready to continue the celebration with an Easter egg hunt\, food\, joyful music\, and a visit from the Easter Bunny. Bring your family\, invite your friends\, and come celebrate a morning of renewal\, connection\, and rising hearts with the entire community. \nYou can also take photos with the Easter Bunny\, offering a wonderful opportunity to capture joyful memories of the day.
URL:https://csldallas.org/event/easter-celebration/
LOCATION:CSLDallas\, 4801 Spring Valley Rd. Ste 113\, Dallas\, TX\, 75244\, United States
CATEGORIES:Community Events,Courses & Workshops,Special Events,Sunday Events
ATTACH;FMTTYPE=image/png:https://csldallas.org/wp-content/uploads/2025/03/Easter-Header.png
END:VEVENT
BEGIN:VEVENT
DTSTART;TZID=America/Chicago:20260405T130000
DTEND;TZID=America/Chicago:20260405T143000
DTSTAMP:20260420T152137
CREATED:20240513T232254Z
LAST-MODIFIED:20241210T184621Z
UID:27800-1775394000-1775399400@csldallas.org
SUMMARY:Soul Recovery Circle Of Life
DESCRIPTION:This circle is intended to supplement 12-Step programs by providing community-based support and discussion based on Science of Mind and New Thought principles and practices.   We explore the 12 Keys from the book Soul Recovery–12 Keys to Healing Dependence written by Ester Nicholson along with other new thought philosophies that can be applied to dependency.   \nThese keys are the powerful I am statements that lay the foundation for a path to wholeness.  All types of dependence (i.e. alcohol\, drugs\, overeating\, gambling\, etc.)  are welcome on this journey to uncovering the spiritual truth of wholeness that exists within each of us.    \nThe meeting format: \n\nCentering\nReading\nDiscussion\nPractice/Action\nClosing\n\nTo learn more about this group and to contact please click the button \nLearn More
URL:https://csldallas.org/event/soul-recovery-circle-of-life/2026-04-05/
LOCATION:CSLDallas\, 4801 Spring Valley Rd. Ste 113\, Dallas\, TX\, 75244\, United States
CATEGORIES:Community
ATTACH;FMTTYPE=image/jpeg:https://csldallas.org/wp-content/uploads/2024/05/Soul-Recovery-Group.jpeg
END:VEVENT
BEGIN:VEVENT
DTSTART;TZID=America/Chicago:20260405T130000
DTEND;TZID=America/Chicago:20260405T150000
DTSTAMP:20260420T152137
CREATED:20251209T174958Z
LAST-MODIFIED:20260124T132259Z
UID:30707-1775394000-1775401200@csldallas.org
SUMMARY:Young Adult Group
DESCRIPTION:We’re excited to announce the launch of a brand-new circle here at CSLDallas — the Young Adult Group! \nWe’ll gather each Sunday from 1-3pm CST for meaningful conversation\, connection\, and spiritual growth. Each week will include open discussion\, relevant topics\, and experiential activities to help make spirituality come alive in your life. \nTogether\, we’ll explore how to apply Science of Mind principles and practices to real-life situations that young adults face — from relationships and purpose to work\, creativity\, and everyday challenges. \nSo if you’re a young adult looking to grow in community and live your spirituality in practical ways\, join us Sunday afternoons for the Young Adult Circle — a place to connect\, explore\, and thrive together!
URL:https://csldallas.org/event/young-adult-group/2026-04-05/
CATEGORIES:Community,Community Events,Sunday Events
ATTACH;FMTTYPE=image/png:https://csldallas.org/wp-content/uploads/2025/12/Web-Banners-Jan-June-2026-2.png
END:VEVENT
BEGIN:VEVENT
DTSTART;TZID=America/Chicago:20260405T183000
DTEND;TZID=America/Chicago:20260405T191500
DTSTAMP:20260420T152137
CREATED:20260126T213506Z
LAST-MODIFIED:20260207T152312Z
UID:31076-1775413800-1775416500@csldallas.org
SUMMARY:Season For Peace and Non Violence
DESCRIPTION:Join us on a transformative 64-day journey towards peace and nonviolence with CSLDallas. \nHonoring the legacies of Gandhi and Dr. King\, this season invites you to reflect\, grow\, and embody love\, courage\, and kindness every day. \nLet’s practice peace in our thoughts\, words\, and actions—creating a ripple effect of healing in our world. \nWe will be meeting each Sunday from 6:30pm – 7:15pm CT \nDownload the materials so you can follow along\nGet Booklet\nTo get access to the Zoom Meeting Information please register below.\nRegister Now
URL:https://csldallas.org/event/season-for-peace-and-non-violence/2026-04-05/
CATEGORIES:Community & Service Events,Community Events,Mediations
ATTACH;FMTTYPE=image/png:https://csldallas.org/wp-content/uploads/2026/01/Web-Banners-Jan-June-2026-6.png
END:VEVENT
END:VCALENDAR