BEGIN:VCALENDAR
VERSION:2.0
PRODID:-//CSLDallas | A Center for Spiritual Living, Metaphysics, Transformation, and Spiritual Community in Dallas Texas - ECPv6.9.1//NONSGML v1.0//EN
CALSCALE:GREGORIAN
METHOD:PUBLISH
X-WR-CALNAME:CSLDallas | A Center for Spiritual Living, Metaphysics, Transformation, and Spiritual Community in Dallas Texas
X-ORIGINAL-URL:https://csldallas.org
X-WR-CALDESC:Events for CSLDallas | A Center for Spiritual Living, Metaphysics, Transformation, and Spiritual Community in Dallas Texas
REFRESH-INTERVAL;VALUE=DURATION:PT1H
X-Robots-Tag:noindex
X-PUBLISHED-TTL:PT1H
BEGIN:VTIMEZONE
TZID:UTC
BEGIN:STANDARD
TZOFFSETFROM:+0000
TZOFFSETTO:+0000
TZNAME:UTC
DTSTART:20230101T000000
END:STANDARD
END:VTIMEZONE
BEGIN:VEVENT
DTSTART;TZID=UTC:20230610T100000
DTEND;TZID=UTC:20230610T120000
DTSTAMP:20260420T190103
CREATED:20230330T193200Z
LAST-MODIFIED:20230605T182342Z
UID:25311-1686391200-1686398400@csldallas.org
SUMMARY:Nature Circle
DESCRIPTION:Hike with our Nature Circle!\nTrinity Forest Trail at Joppa Preserve \nPlease contact circle leaders for more information\nWe will meet at 9 and hike for about an hour. We will meet at 9:00am in the parking lot at the links below and hike for about one hour and a half. Then those that choose can join us for lunch nearby at Bonton Farms. This is a free paved trail. The parking area by the trailhead is a little sketchy so don’t leave items in view when you park.Go to the parking lot at these links (apple maps do not show parking\, but it is there). The road off of Loop 12 is small but valid. A map is attached.Google Maps: https://goo.gl/maps/k3LE3daJka9BHafr7Apple Maps: https://maps.apple.com/place?ll=32.705963\,-96.737597&q=Dropped%20Pin&t=m \nA few quick notes:\n1) You don’t need to RSVP or notify us about an event\, just come as you wish.\n2) If you have trouble finding us\, please call one of the numbers below.\n3) Be prompt. Since we don’t know who is coming\, we won’t wait on you.\n4) Feel free to invite others by spreading this link.\n5) It’s recommended to wear long pants and bring bug spray\, sunscreen\, and water. \nLeaders of Circle:\nLisa Blackford (Texas Master Naturalist) 214-223-3605 |  lblackford@cooperinst.org\nMichael Deese 817-307-8105 | michael@deese.life\nMichelle Deese 940-367-2919 | michelle@deese.life
URL:https://csldallas.org/event/nature-circle-06-10-2023/
CATEGORIES:Community
ATTACH;FMTTYPE=image/jpeg:https://csldallas.org/wp-content/uploads/2022/04/WEBSITE-Nature-Walk.jpg
END:VEVENT
END:VCALENDAR