BEGIN:VCALENDAR
VERSION:2.0
PRODID:-//CSLDallas | A Center for Spiritual Living, Metaphysics, Transformation, and Spiritual Community in Dallas Texas - ECPv6.9.1//NONSGML v1.0//EN
CALSCALE:GREGORIAN
METHOD:PUBLISH
X-WR-CALNAME:CSLDallas | A Center for Spiritual Living, Metaphysics, Transformation, and Spiritual Community in Dallas Texas
X-ORIGINAL-URL:https://csldallas.org
X-WR-CALDESC:Events for CSLDallas | A Center for Spiritual Living, Metaphysics, Transformation, and Spiritual Community in Dallas Texas
REFRESH-INTERVAL;VALUE=DURATION:PT1H
X-Robots-Tag:noindex
X-PUBLISHED-TTL:PT1H
BEGIN:VTIMEZONE
TZID:America/Chicago
BEGIN:DAYLIGHT
TZOFFSETFROM:-0600
TZOFFSETTO:-0500
TZNAME:CDT
DTSTART:20220313T080000
END:DAYLIGHT
BEGIN:STANDARD
TZOFFSETFROM:-0500
TZOFFSETTO:-0600
TZNAME:CST
DTSTART:20221106T070000
END:STANDARD
END:VTIMEZONE
BEGIN:VEVENT
DTSTART;TZID=America/Chicago:20220509T190000
DTEND;TZID=America/Chicago:20220509T213000
DTSTAMP:20260424T161453
CREATED:20220204T034829Z
LAST-MODIFIED:20220420T034718Z
UID:21056-1652122800-1652131800@csldallas.org
SUMMARY:The Art and Science of Spiritual Mind Treatment
DESCRIPTION:In Person and Online\nAre you ready to go beyond simple affirmation and a materialistic use of the Law of Attraction and take your spiritual life and manifestation practice to a whole new level? Then this course is for you. In the course\, you will discover and practice the most powerful spiritual technology which can be used to create\, to heal\, and most importantly to develop a deep experience of oneness with Source. Used consciously and creatively\, this technology is powerful enough to transform your life completely and be an anchor to your spiritual practice for a lifetime. \nA Powerful Oneness and Manifestation Technology\nTeacher: Dr Petra \nDates: Mondays\, May 9 – June 27\nTime: 7:00 – 9:30pm\nCost: $245 \nWelcome to The Art and Science of Spiritual Mind Treatment: a powerful oneness and manifestation technology. You will experience the 5 stages of a Spiritual Mind Treatment\, based on Universal Principles practiced by the Science of Mind. Combining deep learning with an emphasis on the daily practice of Spiritual Mind Treatment you are embarking on a dynamic training focused on your engagement in Intentional Manifestation\, that allows you to heal\, overcome challenges\, and change the conditions of your life and the lives of those you love. It also builds a lifelong experience\, a deepening awareness of Presence\, and a daily experience of Oneness that will change everything! \nREGISTER HERE!\nMORE INFO HERE \n\n\n	Related
URL:https://csldallas.org/event/the-art-and-science-of-spiritual-mind-treatment/
CATEGORIES:Classes,SOM Classes
ATTACH;FMTTYPE=image/jpeg:https://csldallas.org/wp-content/uploads/2022/03/WEBSITE-The-Art-and-Science-of-Spiritual-Mind-Treatment-770-×-300-px.jpg
END:VEVENT
END:VCALENDAR