BEGIN:VCALENDAR
VERSION:2.0
PRODID:-//CSLDallas | A Center for Spiritual Living, Metaphysics, Transformation, and Spiritual Community in Dallas Texas - ECPv6.9.1//NONSGML v1.0//EN
CALSCALE:GREGORIAN
METHOD:PUBLISH
X-WR-CALNAME:CSLDallas | A Center for Spiritual Living, Metaphysics, Transformation, and Spiritual Community in Dallas Texas
X-ORIGINAL-URL:https://csldallas.org
X-WR-CALDESC:Events for CSLDallas | A Center for Spiritual Living, Metaphysics, Transformation, and Spiritual Community in Dallas Texas
REFRESH-INTERVAL;VALUE=DURATION:PT1H
X-Robots-Tag:noindex
X-PUBLISHED-TTL:PT1H
BEGIN:VTIMEZONE
TZID:America/Chicago
BEGIN:DAYLIGHT
TZOFFSETFROM:-0600
TZOFFSETTO:-0500
TZNAME:CDT
DTSTART:20250309T080000
END:DAYLIGHT
BEGIN:STANDARD
TZOFFSETFROM:-0500
TZOFFSETTO:-0600
TZNAME:CST
DTSTART:20251102T070000
END:STANDARD
END:VTIMEZONE
BEGIN:VEVENT
DTSTART;TZID=America/Chicago:20250309T113000
DTEND;TZID=America/Chicago:20250309T130000
DTSTAMP:20260423T074151
CREATED:20230215T021042Z
LAST-MODIFIED:20250206T200213Z
UID:25048-1741519800-1741525200@csldallas.org
SUMMARY:Spring into Action! A Fair of Opportunities
DESCRIPTION:Do you want to meet more people\, get a chance to practice spiritual principles\, and make an impact for CSLDallas and beyond? \nWell\, get ready to explore how you can through the many opportunities at our \nSpring Into Action: A Fair of Opportunities! \nAttend our spring fair for a fun “one-stop-shopping” experience and grow along the way. Representatives from our Sacred Service Teams\, JOY Village: Journey of Youth\, Circles\, Sanghas\, Home Study Groups\, and more will all be available to help you get engaged and involved. \nEveryone has a gift to give\, a piece of the vision to unfold\, and a way to make CSLDallas even better – THIS MEANS YOU! Don’t miss your opportunity right after the Sunday Celebration!\n\n\n	Related
URL:https://csldallas.org/event/spring-into-action-a-fair-of-opportunities/
CATEGORIES:Classes,Community,Community & Service Events,Courses & Workshops,Sunday Events
ATTACH;FMTTYPE=image/png:https://csldallas.org/wp-content/uploads/2023/02/Screenshot-2025-02-05-132435.png
END:VEVENT
END:VCALENDAR