BEGIN:VCALENDAR
VERSION:2.0
PRODID:-//CSLDallas | A Center for Spiritual Living, Metaphysics, Transformation, and Spiritual Community in Dallas Texas - ECPv6.9.1//NONSGML v1.0//EN
CALSCALE:GREGORIAN
METHOD:PUBLISH
X-WR-CALNAME:CSLDallas | A Center for Spiritual Living, Metaphysics, Transformation, and Spiritual Community in Dallas Texas
X-ORIGINAL-URL:https://csldallas.org
X-WR-CALDESC:Events for CSLDallas | A Center for Spiritual Living, Metaphysics, Transformation, and Spiritual Community in Dallas Texas
REFRESH-INTERVAL;VALUE=DURATION:PT1H
X-Robots-Tag:noindex
X-PUBLISHED-TTL:PT1H
BEGIN:VTIMEZONE
TZID:America/Chicago
BEGIN:DAYLIGHT
TZOFFSETFROM:-0600
TZOFFSETTO:-0500
TZNAME:CDT
DTSTART:20240310T080000
END:DAYLIGHT
BEGIN:STANDARD
TZOFFSETFROM:-0500
TZOFFSETTO:-0600
TZNAME:CST
DTSTART:20241103T070000
END:STANDARD
END:VTIMEZONE
BEGIN:VEVENT
DTSTART;TZID=America/Chicago:20240215T190000
DTEND;TZID=America/Chicago:20240215T203000
DTSTAMP:20260420T125544
CREATED:20240118T024828Z
LAST-MODIFIED:20240118T150346Z
UID:26782-1708023600-1708029000@csldallas.org
SUMMARY:Spiritual Exploration for Physical Healing
DESCRIPTION:Are you dealing with chronic or acute illness\, pain\, or physical dis-ease? \nBring spiritual awareness and truth to the healing modalities you already use. Add a profoundly powerful spiritual intention for wholeness to your healing journey. We believe in the power of mental and spiritual conscious practices to bring about physical healing. We know there is a profound mind/body connection and the trauma\, emotions\, false beliefs and negative patterns can be stored in the body and out-picture as dis-ease. \nWe believe that we are all so deeply connected in the One Infinite Power and Presence it is possible to restore ourselves to wholeness. In this 1st of 4 sessions offered in 2024\, we focus on the awareness\, learning\, growth\, and practice that is available to us by consciously engaging with our pain and dis-ease. \nThe session includes: \n\nCentering music\nExtended guided meditation\nCreating an inner sacred space and altar\nJournaling and self-reflection\nDeep inner awareness\nCompassionate loving of the self and body\nA healing object for your own personal altar\n\nA Love Offering is encouraged \nBoth In-Person and Online \nRegister Here\nThis session is facilitated by Dr Petra Weldes. She has used these healing practices to work through a diagnosis of life-long chronic pain\, and a complete release of hereditary disease. Dr Petra has guided countless students in the deep inner awareness that’s available by compassionately inviting our experience to be revelatory\, filled with opportunities to learn and grow. \n\n\n	Related
URL:https://csldallas.org/event/spiritual-exploration-for-physical-healing/
CATEGORIES:Community
ATTACH;FMTTYPE=image/png:https://csldallas.org/wp-content/uploads/2024/01/Sacred-Healing.png
END:VEVENT
END:VCALENDAR