BEGIN:VCALENDAR
VERSION:2.0
PRODID:-//CSLDallas | A Center for Spiritual Living, Metaphysics, Transformation, and Spiritual Community in Dallas Texas - ECPv6.9.1//NONSGML v1.0//EN
CALSCALE:GREGORIAN
METHOD:PUBLISH
X-WR-CALNAME:CSLDallas | A Center for Spiritual Living, Metaphysics, Transformation, and Spiritual Community in Dallas Texas
X-ORIGINAL-URL:https://csldallas.org
X-WR-CALDESC:Events for CSLDallas | A Center for Spiritual Living, Metaphysics, Transformation, and Spiritual Community in Dallas Texas
REFRESH-INTERVAL;VALUE=DURATION:PT1H
X-Robots-Tag:noindex
X-PUBLISHED-TTL:PT1H
BEGIN:VTIMEZONE
TZID:America/Chicago
BEGIN:DAYLIGHT
TZOFFSETFROM:-0600
TZOFFSETTO:-0500
TZNAME:CDT
DTSTART:20260308T080000
END:DAYLIGHT
BEGIN:STANDARD
TZOFFSETFROM:-0500
TZOFFSETTO:-0600
TZNAME:CST
DTSTART:20261101T070000
END:STANDARD
END:VTIMEZONE
BEGIN:VEVENT
DTSTART;TZID=America/Chicago:20260405T183000
DTEND;TZID=America/Chicago:20260405T191500
DTSTAMP:20260422T095047
CREATED:20260126T213506Z
LAST-MODIFIED:20260207T152312Z
UID:31076-1775413800-1775416500@csldallas.org
SUMMARY:Season For Peace and Non Violence
DESCRIPTION:Join us on a transformative 64-day journey towards peace and nonviolence with CSLDallas. \nHonoring the legacies of Gandhi and Dr. King\, this season invites you to reflect\, grow\, and embody love\, courage\, and kindness every day. \nLet’s practice peace in our thoughts\, words\, and actions—creating a ripple effect of healing in our world. \nWe will be meeting each Sunday from 6:30pm – 7:15pm CT \nDownload the materials so you can follow along\nGet Booklet\nTo get access to the Zoom Meeting Information please register below.\nRegister Now\n\n\n	Related
URL:https://csldallas.org/event/season-for-peace-and-non-violence/2026-04-05/
CATEGORIES:Community & Service Events,Community Events,Mediations
ATTACH;FMTTYPE=image/png:https://csldallas.org/wp-content/uploads/2026/01/Web-Banners-Jan-June-2026-6.png
END:VEVENT
BEGIN:VEVENT
DTSTART;TZID=America/Chicago:20260329T183000
DTEND;TZID=America/Chicago:20260329T191500
DTSTAMP:20260422T095047
CREATED:20260126T213506Z
LAST-MODIFIED:20260207T152310Z
UID:31075-1774809000-1774811700@csldallas.org
SUMMARY:Season For Peace and Non Violence
DESCRIPTION:Join us on a transformative 64-day journey towards peace and nonviolence with CSLDallas. \nHonoring the legacies of Gandhi and Dr. King\, this season invites you to reflect\, grow\, and embody love\, courage\, and kindness every day. \nLet’s practice peace in our thoughts\, words\, and actions—creating a ripple effect of healing in our world. \nWe will be meeting each Sunday from 6:30pm – 7:15pm CT \nDownload the materials so you can follow along\nGet Booklet\nTo get access to the Zoom Meeting Information please register below.\nRegister Now\n\n\n	Related
URL:https://csldallas.org/event/season-for-peace-and-non-violence/2026-03-29/
CATEGORIES:Community & Service Events,Community Events,Mediations
ATTACH;FMTTYPE=image/png:https://csldallas.org/wp-content/uploads/2026/01/Web-Banners-Jan-June-2026-6.png
END:VEVENT
BEGIN:VEVENT
DTSTART;TZID=America/Chicago:20260322T183000
DTEND;TZID=America/Chicago:20260322T191500
DTSTAMP:20260422T095047
CREATED:20260126T213506Z
LAST-MODIFIED:20260207T152308Z
UID:31074-1774204200-1774206900@csldallas.org
SUMMARY:Season For Peace and Non Violence
DESCRIPTION:Join us on a transformative 64-day journey towards peace and nonviolence with CSLDallas. \nHonoring the legacies of Gandhi and Dr. King\, this season invites you to reflect\, grow\, and embody love\, courage\, and kindness every day. \nLet’s practice peace in our thoughts\, words\, and actions—creating a ripple effect of healing in our world. \nWe will be meeting each Sunday from 6:30pm – 7:15pm CT \nDownload the materials so you can follow along\nGet Booklet\nTo get access to the Zoom Meeting Information please register below.\nRegister Now\n\n\n	Related
URL:https://csldallas.org/event/season-for-peace-and-non-violence/2026-03-22/
CATEGORIES:Community & Service Events,Community Events,Mediations
ATTACH;FMTTYPE=image/png:https://csldallas.org/wp-content/uploads/2026/01/Web-Banners-Jan-June-2026-6.png
END:VEVENT
BEGIN:VEVENT
DTSTART;TZID=America/Chicago:20260315T183000
DTEND;TZID=America/Chicago:20260315T191500
DTSTAMP:20260422T095047
CREATED:20260126T213506Z
LAST-MODIFIED:20260207T152306Z
UID:31073-1773599400-1773602100@csldallas.org
SUMMARY:Season For Peace and Non Violence
DESCRIPTION:Join us on a transformative 64-day journey towards peace and nonviolence with CSLDallas. \nHonoring the legacies of Gandhi and Dr. King\, this season invites you to reflect\, grow\, and embody love\, courage\, and kindness every day. \nLet’s practice peace in our thoughts\, words\, and actions—creating a ripple effect of healing in our world. \nWe will be meeting each Sunday from 6:30pm – 7:15pm CT \nDownload the materials so you can follow along\nGet Booklet\nTo get access to the Zoom Meeting Information please register below.\nRegister Now\n\n\n	Related
URL:https://csldallas.org/event/season-for-peace-and-non-violence/2026-03-15/
CATEGORIES:Community & Service Events,Community Events,Mediations
ATTACH;FMTTYPE=image/png:https://csldallas.org/wp-content/uploads/2026/01/Web-Banners-Jan-June-2026-6.png
END:VEVENT
BEGIN:VEVENT
DTSTART;TZID=America/Chicago:20260308T183000
DTEND;TZID=America/Chicago:20260308T191500
DTSTAMP:20260422T095047
CREATED:20260126T213506Z
LAST-MODIFIED:20260207T152304Z
UID:31072-1772994600-1772997300@csldallas.org
SUMMARY:Season For Peace and Non Violence
DESCRIPTION:Join us on a transformative 64-day journey towards peace and nonviolence with CSLDallas. \nHonoring the legacies of Gandhi and Dr. King\, this season invites you to reflect\, grow\, and embody love\, courage\, and kindness every day. \nLet’s practice peace in our thoughts\, words\, and actions—creating a ripple effect of healing in our world. \nWe will be meeting each Sunday from 6:30pm – 7:15pm CT \nDownload the materials so you can follow along\nGet Booklet\nTo get access to the Zoom Meeting Information please register below.\nRegister Now\n\n\n	Related
URL:https://csldallas.org/event/season-for-peace-and-non-violence/2026-03-08/
CATEGORIES:Community & Service Events,Community Events,Mediations
ATTACH;FMTTYPE=image/png:https://csldallas.org/wp-content/uploads/2026/01/Web-Banners-Jan-June-2026-6.png
END:VEVENT
BEGIN:VEVENT
DTSTART;TZID=America/Chicago:20260301T183000
DTEND;TZID=America/Chicago:20260301T191500
DTSTAMP:20260422T095047
CREATED:20260126T213506Z
LAST-MODIFIED:20260207T152301Z
UID:31071-1772389800-1772392500@csldallas.org
SUMMARY:Season For Peace and Non Violence
DESCRIPTION:Join us on a transformative 64-day journey towards peace and nonviolence with CSLDallas. \nHonoring the legacies of Gandhi and Dr. King\, this season invites you to reflect\, grow\, and embody love\, courage\, and kindness every day. \nLet’s practice peace in our thoughts\, words\, and actions—creating a ripple effect of healing in our world. \nWe will be meeting each Sunday from 6:30pm – 7:15pm CT \nDownload the materials so you can follow along\nGet Booklet\nTo get access to the Zoom Meeting Information please register below.\nRegister Now\n\n\n	Related
URL:https://csldallas.org/event/season-for-peace-and-non-violence/2026-03-01/
CATEGORIES:Community & Service Events,Community Events,Mediations
ATTACH;FMTTYPE=image/png:https://csldallas.org/wp-content/uploads/2026/01/Web-Banners-Jan-June-2026-6.png
END:VEVENT
BEGIN:VEVENT
DTSTART;TZID=America/Chicago:20260222T183000
DTEND;TZID=America/Chicago:20260222T191500
DTSTAMP:20260422T095047
CREATED:20260126T213506Z
LAST-MODIFIED:20260207T152259Z
UID:31070-1771785000-1771787700@csldallas.org
SUMMARY:Season For Peace and Non Violence
DESCRIPTION:Join us on a transformative 64-day journey towards peace and nonviolence with CSLDallas. \nHonoring the legacies of Gandhi and Dr. King\, this season invites you to reflect\, grow\, and embody love\, courage\, and kindness every day. \nLet’s practice peace in our thoughts\, words\, and actions—creating a ripple effect of healing in our world. \nWe will be meeting each Sunday from 6:30pm – 7:15pm CT \nDownload the materials so you can follow along\nGet Booklet\nTo get access to the Zoom Meeting Information please register below.\nRegister Now\n\n\n	Related
URL:https://csldallas.org/event/season-for-peace-and-non-violence/2026-02-22/
CATEGORIES:Community & Service Events,Community Events,Mediations
ATTACH;FMTTYPE=image/png:https://csldallas.org/wp-content/uploads/2026/01/Web-Banners-Jan-June-2026-6.png
END:VEVENT
BEGIN:VEVENT
DTSTART;TZID=America/Chicago:20260215T183000
DTEND;TZID=America/Chicago:20260215T191500
DTSTAMP:20260422T095047
CREATED:20260126T213506Z
LAST-MODIFIED:20260207T152258Z
UID:31069-1771180200-1771182900@csldallas.org
SUMMARY:Season For Peace and Non Violence
DESCRIPTION:Join us on a transformative 64-day journey towards peace and nonviolence with CSLDallas. \nHonoring the legacies of Gandhi and Dr. King\, this season invites you to reflect\, grow\, and embody love\, courage\, and kindness every day. \nLet’s practice peace in our thoughts\, words\, and actions—creating a ripple effect of healing in our world. \nWe will be meeting each Sunday from 6:30pm – 7:15pm CT \nDownload the materials so you can follow along\nGet Booklet\nTo get access to the Zoom Meeting Information please register below.\nRegister Now\n\n\n	Related
URL:https://csldallas.org/event/season-for-peace-and-non-violence/2026-02-15/
CATEGORIES:Community & Service Events,Community Events,Mediations
ATTACH;FMTTYPE=image/png:https://csldallas.org/wp-content/uploads/2026/01/Web-Banners-Jan-June-2026-6.png
END:VEVENT
BEGIN:VEVENT
DTSTART;TZID=America/Chicago:20260208T183000
DTEND;TZID=America/Chicago:20260208T191500
DTSTAMP:20260422T095047
CREATED:20260126T213506Z
LAST-MODIFIED:20260207T152256Z
UID:31068-1770575400-1770578100@csldallas.org
SUMMARY:Season For Peace and Non Violence
DESCRIPTION:Join us on a transformative 64-day journey towards peace and nonviolence with CSLDallas. \nHonoring the legacies of Gandhi and Dr. King\, this season invites you to reflect\, grow\, and embody love\, courage\, and kindness every day. \nLet’s practice peace in our thoughts\, words\, and actions—creating a ripple effect of healing in our world. \nWe will be meeting each Sunday from 6:30pm – 7:15pm CT \nDownload the materials so you can follow along\nGet Booklet\nTo get access to the Zoom Meeting Information please register below.\nRegister Now\n\n\n	Related
URL:https://csldallas.org/event/season-for-peace-and-non-violence/2026-02-08/
CATEGORIES:Community & Service Events,Community Events,Mediations
ATTACH;FMTTYPE=image/png:https://csldallas.org/wp-content/uploads/2026/01/Web-Banners-Jan-June-2026-6.png
END:VEVENT
BEGIN:VEVENT
DTSTART;TZID=America/Chicago:20260201T183000
DTEND;TZID=America/Chicago:20260201T191500
DTSTAMP:20260422T095047
CREATED:20260126T213506Z
LAST-MODIFIED:20260207T152255Z
UID:31058-1769970600-1769973300@csldallas.org
SUMMARY:Season For Peace and Non Violence
DESCRIPTION:Join us on a transformative 64-day journey towards peace and nonviolence with CSLDallas. \nHonoring the legacies of Gandhi and Dr. King\, this season invites you to reflect\, grow\, and embody love\, courage\, and kindness every day. \nLet’s practice peace in our thoughts\, words\, and actions—creating a ripple effect of healing in our world. \nWe will be meeting each Sunday from 6:30pm – 7:15pm CT \nDownload the materials so you can follow along\nGet Booklet\nTo get access to the Zoom Meeting Information please register below.\nRegister Now\n\n\n	Related
URL:https://csldallas.org/event/season-for-peace-and-non-violence/2026-02-01/
CATEGORIES:Community & Service Events,Community Events,Mediations
ATTACH;FMTTYPE=image/png:https://csldallas.org/wp-content/uploads/2026/01/Web-Banners-Jan-June-2026-6.png
END:VEVENT
END:VCALENDAR