BEGIN:VCALENDAR
VERSION:2.0
PRODID:-//CSLDallas | A Center for Spiritual Living, Metaphysics, Transformation, and Spiritual Community in Dallas Texas - ECPv6.9.1//NONSGML v1.0//EN
CALSCALE:GREGORIAN
METHOD:PUBLISH
X-WR-CALNAME:CSLDallas | A Center for Spiritual Living, Metaphysics, Transformation, and Spiritual Community in Dallas Texas
X-ORIGINAL-URL:https://csldallas.org
X-WR-CALDESC:Events for CSLDallas | A Center for Spiritual Living, Metaphysics, Transformation, and Spiritual Community in Dallas Texas
REFRESH-INTERVAL;VALUE=DURATION:PT1H
X-Robots-Tag:noindex
X-PUBLISHED-TTL:PT1H
BEGIN:VTIMEZONE
TZID:UTC
BEGIN:STANDARD
TZOFFSETFROM:+0000
TZOFFSETTO:+0000
TZNAME:UTC
DTSTART:20220101T000000
END:STANDARD
END:VTIMEZONE
BEGIN:VEVENT
DTSTART;TZID=UTC:20220507T120000
DTEND;TZID=UTC:20220507T140000
DTSTAMP:20260422T202625
CREATED:20220407T220016Z
LAST-MODIFIED:20220413T204032Z
UID:22186-1651924800-1651932000@csldallas.org
SUMMARY:Sacred Service Ministry Picnic
DESCRIPTION:Come One\, Come All.\nJoin us for our CSLDallas mid-year Sacred Service Ministry Picnic to celebrate the service given by our volunteers to our community needs. \nDate(s): Saturday\, May 7th\nTime: 12 PM-2 PM\nLocation: Farmers Branch Park – 13956 Dennis Lane\, Farmers Branch\, TX 75234\nCost: Free \nEveryone is invited to participate in this family-friendly event.\nHamburgers\, hot dogs and soft beverages will be provided\, along with games and activities for children and adults\, too. \nNO SIGN UP NECESSARY. EVERYONE INVITED AND WELCOMED TO THE FUN! \nBring a side dish\, salads or desserts to be shared with all and plan to have fun with your fellow CSLDallas community folks. The majority of games and fun will happen between 12-2 PM.\n(If you want other meats besides what’s provided\, bring them and plan to grill them for yourself and others.) \nIF YOU HAVE ANY QUESTIONS\, GET IN CONTACT WITH REV MARSHA AT 469-835-9678 OR REVMARSHA@CSLDALLAS.ORG \n\n\n	Related
URL:https://csldallas.org/event/sacred-service-ministry-picnic/
LOCATION:Farmers Branch Park\, 13956 Dennis Lane\, Farmers Branch\, TX\, 75234\, United States
CATEGORIES:Community
ATTACH;FMTTYPE=image/jpeg:https://csldallas.org/wp-content/uploads/2022/04/WEBSITE-Sacred-Service-Ministry-Picnic-770-×-300-px.jpg
END:VEVENT
END:VCALENDAR