BEGIN:VCALENDAR
VERSION:2.0
PRODID:-//CSLDallas | A Center for Spiritual Living, Metaphysics, Transformation, and Spiritual Community in Dallas Texas - ECPv6.9.1//NONSGML v1.0//EN
CALSCALE:GREGORIAN
METHOD:PUBLISH
X-WR-CALNAME:CSLDallas | A Center for Spiritual Living, Metaphysics, Transformation, and Spiritual Community in Dallas Texas
X-ORIGINAL-URL:https://csldallas.org
X-WR-CALDESC:Events for CSLDallas | A Center for Spiritual Living, Metaphysics, Transformation, and Spiritual Community in Dallas Texas
REFRESH-INTERVAL;VALUE=DURATION:PT1H
X-Robots-Tag:noindex
X-PUBLISHED-TTL:PT1H
BEGIN:VTIMEZONE
TZID:America/Chicago
BEGIN:DAYLIGHT
TZOFFSETFROM:-0600
TZOFFSETTO:-0500
TZNAME:CDT
DTSTART:20240310T080000
END:DAYLIGHT
BEGIN:STANDARD
TZOFFSETFROM:-0500
TZOFFSETTO:-0600
TZNAME:CST
DTSTART:20241103T070000
END:STANDARD
END:VTIMEZONE
BEGIN:VEVENT
DTSTART;TZID=America/Chicago:20240106T100000
DTEND;TZID=America/Chicago:20240106T120000
DTSTAMP:20260422T132308
CREATED:20240104T214051Z
LAST-MODIFIED:20240104T214051Z
UID:26682-1704535200-1704542400@csldallas.org
SUMMARY:Living From the Inside Out - A Workshop with Dr Petra Copy
DESCRIPTION:As an added bonus those who register before January 5th will receive a 50% off discount code to use for Dr Petra’s Online course – Manifestation and Mysticism. This E-Course pairs well with the material in this workshop. Learn more by clicking this button.\nLearn More\nThere is so much going on\, in our lives and in the world\, do you wonder where to start? What is yours to do – for yourself\, your work\, your family\, and the call you have to make the world a better place? \nA deep desire to be your very best can create a long list of to-dos\, activities\, and intentions that turn into busyness\, stress\, and even a lack of fulfillment. It’s all about where you stand\, where you come from\, and how you move in the world that makes the difference. \n“Living From the Inside Out” is designed to engage your deepest self\, your core beliefs\, and your internal compass. This gives you solid spiritual ground on which to stand and from which to move. \n“Living From the Inside Out” harmonizes our mind\, heart\, soul\, and body with our essential nature\, allowing us to move with purpose\, grace\, and flow. \nThis workshop will include: \n\nInner dialogue and sharing with others\nSelf-assessment and reflection\nSpiritual insight and direction\nCreating firm ground on which to stand\nDeveloping your internal compass\nYour vision of the coming year\n\nCost: $49\nLocation: Online via Zoom\nLed by: Rev Dr Petra Weldes \nREGISTER HERE\n\nAbout Your Facilitator: \nRev Dr Petra Weldes has been living from the inside out for many years on her spiritual journey. The path has taken her through dark nights of the soul and peak experiences of creativity\, love\, and accomplishment. Through it all\, she’s learned and shared the tools that keep her grounded\, connected\, and steady within herself. \n\n\n	Related
URL:https://csldallas.org/event/inside-out-workshop-copy/
ATTACH;FMTTYPE=image/png:https://csldallas.org/wp-content/uploads/2023/09/Event-Banner-Images-DecemberJanuary-4.png
END:VEVENT
END:VCALENDAR