BEGIN:VCALENDAR
VERSION:2.0
PRODID:-//CSLDallas | A Center for Spiritual Living, Metaphysics, Transformation, and Spiritual Community in Dallas Texas - ECPv6.9.1//NONSGML v1.0//EN
CALSCALE:GREGORIAN
METHOD:PUBLISH
X-WR-CALNAME:CSLDallas | A Center for Spiritual Living, Metaphysics, Transformation, and Spiritual Community in Dallas Texas
X-ORIGINAL-URL:https://csldallas.org
X-WR-CALDESC:Events for CSLDallas | A Center for Spiritual Living, Metaphysics, Transformation, and Spiritual Community in Dallas Texas
REFRESH-INTERVAL;VALUE=DURATION:PT1H
X-Robots-Tag:noindex
X-PUBLISHED-TTL:PT1H
BEGIN:VTIMEZONE
TZID:America/Chicago
BEGIN:DAYLIGHT
TZOFFSETFROM:-0600
TZOFFSETTO:-0500
TZNAME:CDT
DTSTART:20210314T080000
END:DAYLIGHT
BEGIN:STANDARD
TZOFFSETFROM:-0500
TZOFFSETTO:-0600
TZNAME:CST
DTSTART:20211107T070000
END:STANDARD
END:VTIMEZONE
BEGIN:VEVENT
DTSTART;TZID=America/Chicago:20211119T190000
DTEND;TZID=America/Chicago:20211119T201500
DTSTAMP:20260420T155624
CREATED:20201019T153542Z
LAST-MODIFIED:20211104T040243Z
UID:15926-1637348400-1637352900@csldallas.org
SUMMARY:A Time to Grieve - A Time to Hope
DESCRIPTION:FRIDAY\, NOV 19\, 7:00 – 8:15PM\nIN PERSON ONLY\nANNUAL BLUE HOLIDAY RITUAL \nOffered by Dr Petra\, Sherry Wood\, Kirby Welch\, and the CSLDallas Ritual Team in our Meditation Hall. \nAfter the year we have had\, getting ready for the holidays may be even more challenging than normal. Perhaps you’ve had significant loss this year that keeps you from looking forward to the Holiday Season. Perhaps you just generally struggle with loneliness\, separation\, or childhood issues this time of year. Whatever the case\, CSLDallas’ Blue Holiday Ritual is a gentle time of ritual\, music\, words\, and silence to acknowledge these difficulties in a sacred container woven of Spirit and Love. You will come away with a little more peace in your heart and space for some hope in your soul. \n\n\n	Related
URL:https://csldallas.org/event/grieving-2020-blue-holiday-ritual/
CATEGORIES:Community
ATTACH;FMTTYPE=image/jpeg:https://csldallas.org/wp-content/uploads/2020/10/Grieving-2020-Blue-Holiday-Ritual-2020-featured-event.jpg
END:VEVENT
END:VCALENDAR