BEGIN:VCALENDAR
VERSION:2.0
PRODID:-//CSLDallas | A Center for Spiritual Living, Metaphysics, Transformation, and Spiritual Community in Dallas Texas - ECPv6.9.1//NONSGML v1.0//EN
CALSCALE:GREGORIAN
METHOD:PUBLISH
X-WR-CALNAME:CSLDallas | A Center for Spiritual Living, Metaphysics, Transformation, and Spiritual Community in Dallas Texas
X-ORIGINAL-URL:https://csldallas.org
X-WR-CALDESC:Events for CSLDallas | A Center for Spiritual Living, Metaphysics, Transformation, and Spiritual Community in Dallas Texas
REFRESH-INTERVAL;VALUE=DURATION:PT1H
X-Robots-Tag:noindex
X-PUBLISHED-TTL:PT1H
BEGIN:VTIMEZONE
TZID:America/Chicago
BEGIN:DAYLIGHT
TZOFFSETFROM:-0600
TZOFFSETTO:-0500
TZNAME:CDT
DTSTART:20220313T080000
END:DAYLIGHT
BEGIN:STANDARD
TZOFFSETFROM:-0500
TZOFFSETTO:-0600
TZNAME:CST
DTSTART:20221106T070000
END:STANDARD
END:VTIMEZONE
BEGIN:VEVENT
DTSTART;TZID=America/Chicago:20220726T190000
DTEND;TZID=America/Chicago:20220726T203000
DTSTAMP:20260422T144920
CREATED:20220208T002639Z
LAST-MODIFIED:20220627T175855Z
UID:21121-1658862000-1658867400@csldallas.org
SUMMARY:The Back Porch - Community Jam & Sing Along
DESCRIPTION:A community jam and sing-along! \nCalling all musicians- let’s celebrate you and your talent!\nBring your instruments and your voices as Kirby leads us through various songs over the eras. \nCome experience the joy of singing along to classics and new songs alike.\nAll ages are welcome. \n\n\n\nDate: July 26\, 2022\nTime: 7:00 PM – 8:30 PM\nLocation: Panhke within CSLDallas\nLed by: Kirby Welch (Music Director)\nCost: Free\n\n\n\n	Related
URL:https://csldallas.org/event/community-jam/
CATEGORIES:Community
ATTACH;FMTTYPE=image/jpeg:https://csldallas.org/wp-content/uploads/2022/02/Community-jam-csldallas-spiritual-community-dallas-texas.jpg
END:VEVENT
END:VCALENDAR